BEGIN:VCALENDAR
VERSION:2.0
PRODID:-//The Plymouth Rockers - ECPv6.8.3//NONSGML v1.0//EN
CALSCALE:GREGORIAN
METHOD:PUBLISH
X-ORIGINAL-URL:https://plymouthrockers.org
X-WR-CALDESC:Events for The Plymouth Rockers
REFRESH-INTERVAL;VALUE=DURATION:PT1H
X-Robots-Tag:noindex
X-PUBLISHED-TTL:PT1H
BEGIN:VTIMEZONE
TZID:America/Chicago
BEGIN:DAYLIGHT
TZOFFSETFROM:-0600
TZOFFSETTO:-0500
TZNAME:CDT
DTSTART:20260308T080000
END:DAYLIGHT
BEGIN:STANDARD
TZOFFSETFROM:-0500
TZOFFSETTO:-0600
TZNAME:CST
DTSTART:20261101T070000
END:STANDARD
END:VTIMEZONE
BEGIN:VEVENT
DTSTART;TZID=America/Chicago:20260202T093000
DTEND;TZID=America/Chicago:20261228T120000
DTSTAMP:20260422T201644
CREATED:20240720T171755Z
LAST-MODIFIED:20260123T010005Z
UID:3487-1770024600-1798459200@plymouthrockers.org
SUMMARY:Plymouth Rocker Rehearsals
DESCRIPTION:We meet each Monday (no holidays\, off January and July) from 9:30am to Noon.  No auditions required.
URL:https://plymouthrockers.org/event/plymouth-rocker-rehearsals/
LOCATION:Plymouth Community Center\, 14800 34th Av N\, Plymouth\, 55447\, United States
CATEGORIES:Public
ATTACH;FMTTYPE=image/png:https://plymouthrockers.org/wp-content/uploads/2024/02/Feature-Image-5.png
END:VEVENT
BEGIN:VEVENT
DTSTART;TZID=America/Chicago:20260924T140000
DTEND;TZID=America/Chicago:20260924T153000
DTSTAMP:20260422T201644
CREATED:20260322T155138Z
LAST-MODIFIED:20260322T155237Z
UID:4645-1790258400-1790263800@plymouthrockers.org
SUMMARY:Haven Homes of Maple Plain
DESCRIPTION:Arrive 1:30-2pm Sing @ 2:30pm
URL:https://plymouthrockers.org/event/haven-homes-of-maple-plain/
LOCATION:Haven Homes of Maple Plain\, 4848 Gateway Blvd\, Maple Plain\, MN\, 55359
CATEGORIES:Private
ATTACH;FMTTYPE=image/png:https://plymouthrockers.org/wp-content/uploads/2024/02/Feature-Image-5.png
END:VEVENT
BEGIN:VEVENT
DTSTART;TZID=America/Chicago:20261208T133000
DTEND;TZID=America/Chicago:20261208T150000
DTSTAMP:20260422T201644
CREATED:20260217T185053Z
LAST-MODIFIED:20260217T185053Z
UID:4593-1796736600-1796742000@plymouthrockers.org
SUMMARY:Edina Heights Senior Living
DESCRIPTION:Arrive 1:30pm Sing @ 2pm \n  \nUsed to be Brookdale Senior Living12/08/
URL:https://plymouthrockers.org/event/edina-heights-senior-living/
LOCATION:Edina Heights Senior Living\, 3330 Edinborough Way\, Edina\, 55435\, United States
CATEGORIES:Private
ATTACH;FMTTYPE=image/png:https://plymouthrockers.org/wp-content/uploads/2024/02/Feature-Image-5.png
END:VEVENT
END:VCALENDAR